BEGIN:VCALENDAR
VERSION:2.0
PRODID:-//ChamberMaster//Event Calendar 2.0//EN
METHOD:PUBLISH
X-PUBLISHED-TTL:P1H
REFRESH-INTERVAL:P1H
CALSCALE:GREGORIAN
BEGIN:VTIMEZONE
TZID:America/Denver
BEGIN:DAYLIGHT
RRULE:FREQ=YEARLY;BYMONTH=3;BYDAY=2SU
DTSTART:20070101T000000
TZOFFSETFROM:-0700
TZOFFSETTO:-0600
TZNAME:Mountain Daylight Time
END:DAYLIGHT
BEGIN:STANDARD
RRULE:FREQ=YEARLY;BYMONTH=11;BYDAY=1SU
DTSTART:20070101T000000
TZOFFSETFROM:-0600
TZOFFSETTO:-0700
TZNAME:Mountain Standard Time
END:STANDARD
END:VTIMEZONE
BEGIN:VEVENT
DTSTART;TZID=America/Denver:20260624T180000
DTEND;TZID=America/Denver:20260624T210000
X-MICROSOFT-CDO-ALLDAYEVENT:FALSE
SUMMARY:The Grand Gala
DESCRIPTION:This event will be held at Keyah Grande\, there will be continuous transportation from a parking area before you get to the Keyah Grande House. This elegant evening is a fundraiser for Wings Early Childhood Center to support our nature based program and provide tuition help for parents. Tickets are $100 per person. Our school is the only Center in Pagosa Springs that accepts children as young as 6 weeks old and offers continuous learning environment until they are ready for Kindergarten.
X-ALT-DESC;FMTTYPE=text/html:<!DOCTYPE html><html><head><title></title></head><body aria-disabled="false"><p>This event will be held at Keyah Grande\, there will be continuous transportation from a parking area before you get to the Keyah Grande House. This elegant evening is a fundraiser for Wings Early Childhood Center to support our nature based program and provide tuition help for parents. Tickets are $100 per person. Our school is the only Center in Pagosa Springs that accepts children as young as 6 weeks old and offers continuous learning environment until they are ready for Kindergarten.</p></body></html>
LOCATION:13211 Highway 160 W. Pagosa Springs CO 81147
UID:e.2804.1442476
SEQUENCE:3
DTSTAMP:20260423T173747Z
URL:https://member.pagosachamber.com/event-calendar/Details/the-grand-gala-1708474?sourceTypeId=Hub
END:VEVENT
END:VCALENDAR
