BEGIN:VCALENDAR
VERSION:2.0
PRODID:-//ChamberMaster//Event Calendar 2.0//EN
METHOD:PUBLISH
X-PUBLISHED-TTL:P1H
REFRESH-INTERVAL:P1H
CALSCALE:GREGORIAN
BEGIN:VTIMEZONE
TZID:America/Denver
BEGIN:DAYLIGHT
RRULE:FREQ=YEARLY;BYMONTH=3;BYDAY=2SU
DTSTART:20070101T000000
TZOFFSETFROM:-0700
TZOFFSETTO:-0600
TZNAME:Mountain Daylight Time
END:DAYLIGHT
BEGIN:STANDARD
RRULE:FREQ=YEARLY;BYMONTH=11;BYDAY=1SU
DTSTART:20070101T000000
TZOFFSETFROM:-0600
TZOFFSETTO:-0700
TZNAME:Mountain Standard Time
END:STANDARD
END:VTIMEZONE
BEGIN:VEVENT
DTSTART;TZID=America/Denver:20260829T170000
DTEND;TZID=America/Denver:20260829T210000
X-MICROSOFT-CDO-ALLDAYEVENT:FALSE
SUMMARY:Save the Date - Humane Society of Pagosa Springs 31st Annual Auction for the Animals
DESCRIPTION:p.p1 {margin: 0.0px 0.0px 0.0px 0.0px\; font: 13.0px 'Helvetica Neue'}\nPlease Save the Date for Humane Society of Pagosa Springs 31st Annual Auction for the Animals. Join us for a fun and memorable evening while giving homeless and abandoned animals a second chance. Live Auction\, Live Music\, Food and more!
X-ALT-DESC;FMTTYPE=text/html:<!DOCTYPE html><html><head><title></title></head><body aria-disabled="false"><style type="text/css">\np.p1 {margin: 0.0px 0.0px 0.0px 0.0px\; font: 13.0px 'Helvetica Neue'}\n</style><p>Please Save the Date for Humane Society of Pagosa Springs 31st Annual Auction for the Animals. Join us for a fun and memorable evening while giving homeless and abandoned animals a second chance. Live Auction\, Live Music\, Food and more!</p></body></html>
LOCATION:
UID:e.2804.1438634
SEQUENCE:3
DTSTAMP:20260420T095611Z
URL:https://member.pagosachamber.com/event-calendar/Details/save-the-date-humane-society-of-pagosa-springs-31st-annual-auction-for-the-animals-1702797?sourceTypeId=Hub
END:VEVENT
END:VCALENDAR
