BEGIN:VCALENDAR
VERSION:2.0
PRODID:-//ChamberMaster//Event Calendar 2.0//EN
METHOD:PUBLISH
X-PUBLISHED-TTL:P1H
REFRESH-INTERVAL:P1H
CALSCALE:GREGORIAN
BEGIN:VTIMEZONE
TZID:America/Denver
BEGIN:DAYLIGHT
RRULE:FREQ=YEARLY;BYMONTH=3;BYDAY=2SU
DTSTART:20070101T000000
TZOFFSETFROM:-0700
TZOFFSETTO:-0600
TZNAME:Mountain Daylight Time
END:DAYLIGHT
BEGIN:STANDARD
RRULE:FREQ=YEARLY;BYMONTH=11;BYDAY=1SU
DTSTART:20070101T000000
TZOFFSETFROM:-0600
TZOFFSETTO:-0700
TZNAME:Mountain Standard Time
END:STANDARD
END:VTIMEZONE
BEGIN:VEVENT
DTSTART;TZID=America/Denver:20260506T170000
DTEND;TZID=America/Denver:20260506T200000
X-MICROSOFT-CDO-ALLDAYEVENT:FALSE
SUMMARY:Pagosa Springs Local Music Appreciation
DESCRIPTION:
X-ALT-DESC;FMTTYPE=text/html:
LOCATION:175 Pagosa Street Pagosa Springs CO 81147
UID:e.2804.1443487
SEQUENCE:3
DTSTAMP:20260423T174019Z
URL:https://member.pagosachamber.com/event-calendar/Details/pagosa-springs-local-music-appreciation-1709727?sourceTypeId=Hub
END:VEVENT
END:VCALENDAR
