BEGIN:VCALENDAR
VERSION:2.0
PRODID:-//ChamberMaster//Event Calendar 2.0//EN
METHOD:PUBLISH
X-PUBLISHED-TTL:P1H
REFRESH-INTERVAL:P1H
CALSCALE:GREGORIAN
BEGIN:VTIMEZONE
TZID:America/Denver
BEGIN:DAYLIGHT
RRULE:FREQ=YEARLY;BYMONTH=3;BYDAY=2SU
DTSTART:20070101T000000
TZOFFSETFROM:-0700
TZOFFSETTO:-0600
TZNAME:Mountain Daylight Time
END:DAYLIGHT
BEGIN:STANDARD
RRULE:FREQ=YEARLY;BYMONTH=11;BYDAY=1SU
DTSTART:20070101T000000
TZOFFSETFROM:-0600
TZOFFSETTO:-0700
TZNAME:Mountain Standard Time
END:STANDARD
END:VTIMEZONE
BEGIN:VEVENT
DTSTART;TZID=America/Denver:20260421T173000
DTEND;TZID=America/Denver:20260421T200000
X-MICROSOFT-CDO-ALLDAYEVENT:FALSE
SUMMARY:DUST2 FILM NIGHT - THE ENGINE INSIDE
DESCRIPTION:THE ENGINE INSIDE Film Night Fundraiser Apr 21\, 2026\, 5:30   8:00 PM   Follow six individuals from diverse backgrounds who have devoted themselves to a simple machine - the bicycle. Through their struggles\, witness how bicycles have the potential to transform lives and contribute to a better world.
X-ALT-DESC;FMTTYPE=text/html:<!DOCTYPE html><html><head><title></title></head><body aria-disabled="false"><p>THE ENGINE INSIDE Film Night Fundraiser Apr 21\, 2026\, 5:30 &ndash\; 8:00 PM &nbsp\; Follow six individuals from diverse backgrounds who have devoted themselves to a simple machine - the bicycle. Through their struggles\, witness how bicycles have the potential to transform lives and contribute to a better world.</p></body></html>
LOCATION:418 Pagosa Street Pagosa Springs CO 81147
UID:e.2804.1443769
SEQUENCE:3
DTSTAMP:20260423T173818Z
URL:https://member.pagosachamber.com/event-calendar/Details/dust2-film-night-the-engine-inside-1710016?sourceTypeId=Hub
END:VEVENT
END:VCALENDAR
