BEGIN:VCALENDAR
VERSION:2.0
PRODID:-//ChamberMaster//Event Calendar 2.0//EN
METHOD:PUBLISH
X-PUBLISHED-TTL:P1H
REFRESH-INTERVAL:P1H
CALSCALE:GREGORIAN
BEGIN:VTIMEZONE
TZID:America/Denver
BEGIN:DAYLIGHT
RRULE:FREQ=YEARLY;BYMONTH=3;BYDAY=2SU
DTSTART:20070101T000000
TZOFFSETFROM:-0700
TZOFFSETTO:-0600
TZNAME:Mountain Daylight Time
END:DAYLIGHT
BEGIN:STANDARD
RRULE:FREQ=YEARLY;BYMONTH=11;BYDAY=1SU
DTSTART:20070101T000000
TZOFFSETFROM:-0600
TZOFFSETTO:-0700
TZNAME:Mountain Standard Time
END:STANDARD
END:VTIMEZONE
BEGIN:VEVENT
DTSTART;TZID=America/Denver:20260426T100000
DTEND;TZID=America/Denver:20260426T120000
X-MICROSOFT-CDO-ALLDAYEVENT:FALSE
SUMMARY:CRITICAL MASS PAGOSA - COMMUNITY BIKE RIDE
DESCRIPTION:Pagosa Springs is getting its first Critical Mass ride! Join Dust2 for a colorful\, family-friendly community ride through downtown. Downtown by the domes at the Earth Day celebration.✨ Decorate your bike ✨ Dress up if you want ✨ Bring your friends and family    10:00 decorate   10:30 ride
X-ALT-DESC;FMTTYPE=text/html:<!DOCTYPE html><html><head><title></title></head><body aria-disabled="false"><p style="text-align: left\;">Pagosa Springs is getting its first Critical Mass ride! Join Dust2 for a colorful\, family-friendly community ride through downtown. Downtown by the domes at the Earth Day celebration.</p><p style="text-align: justify\;">✨ Decorate your bike ✨ Dress up if you want ✨ Bring your friends and family&nbsp\; &nbsp\; 10:00 decorate &bull\; 10:30 ride</p></body></html>
LOCATION:50 So 5th Street Pagosa Springs CO 81147
UID:e.2804.1443787
SEQUENCE:3
DTSTAMP:20260423T174109Z
URL:https://member.pagosachamber.com/event-calendar/Details/critical-mass-pagosa-community-bike-ride-1710033?sourceTypeId=Hub
END:VEVENT
END:VCALENDAR
