BEGIN:VCALENDAR
VERSION:2.0
PRODID:-//ChamberMaster//Event Calendar 2.0//EN
METHOD:PUBLISH
X-PUBLISHED-TTL:P1H
REFRESH-INTERVAL:P1H
CALSCALE:GREGORIAN
BEGIN:VTIMEZONE
TZID:America/Denver
BEGIN:DAYLIGHT
RRULE:FREQ=YEARLY;BYMONTH=3;BYDAY=2SU
DTSTART:20070101T000000
TZOFFSETFROM:-0700
TZOFFSETTO:-0600
TZNAME:Mountain Daylight Time
END:DAYLIGHT
BEGIN:STANDARD
RRULE:FREQ=YEARLY;BYMONTH=11;BYDAY=1SU
DTSTART:20070101T000000
TZOFFSETFROM:-0600
TZOFFSETTO:-0700
TZNAME:Mountain Standard Time
END:STANDARD
END:VTIMEZONE
BEGIN:VEVENT
DTSTART;TZID=America/Denver:20260418T100000
DTEND;TZID=America/Denver:20260418T120000
X-MICROSOFT-CDO-ALLDAYEVENT:FALSE
SUMMARY:Chimney Rock Interpretive Association Volunteer Orientation Day 2
DESCRIPTION:Chimney Rock Interpretive Association offers its orientation program yearly to both new and returning volunteers. The volunteer familiarization tour will take place on Saturday\, April 18th. We will gather at Chimney Rock National Monument from 10:00 am  12:00 pm for a familiarization tour of the Monument.
X-ALT-DESC;FMTTYPE=text/html:<!DOCTYPE html><html><head><title></title></head><body aria-disabled="false"><p style="margin:0in\;background:white\;">Chimney Rock Interpretive Association offers its orientation program yearly to both new and returning volunteers. The volunteer familiarization tour will take place on Saturday\, April 18<sup>th</sup>. We will gather at Chimney Rock National Monument from 10:00 am &ndash\;12:00 pm for a familiarization tour of the Monument.</p></body></html>
LOCATION:
UID:e.2804.1442069
SEQUENCE:3
DTSTAMP:20260423T174150Z
URL:https://member.pagosachamber.com/event-calendar/Details/chimney-rock-interpretive-association-volunteer-orientation-day-2-1707901?sourceTypeId=Hub
END:VEVENT
END:VCALENDAR
