BEGIN:VCALENDAR
VERSION:2.0
PRODID:-//ChamberMaster//Event Calendar 2.0//EN
METHOD:PUBLISH
X-PUBLISHED-TTL:P1H
REFRESH-INTERVAL:P1H
CALSCALE:GREGORIAN
BEGIN:VTIMEZONE
TZID:America/Denver
BEGIN:DAYLIGHT
RRULE:FREQ=YEARLY;BYMONTH=3;BYDAY=2SU
DTSTART:20070101T000000
TZOFFSETFROM:-0700
TZOFFSETTO:-0600
TZNAME:Mountain Daylight Time
END:DAYLIGHT
BEGIN:STANDARD
RRULE:FREQ=YEARLY;BYMONTH=11;BYDAY=1SU
DTSTART:20070101T000000
TZOFFSETFROM:-0600
TZOFFSETTO:-0700
TZNAME:Mountain Standard Time
END:STANDARD
END:VTIMEZONE
BEGIN:VEVENT
DTSTART;TZID=America/Denver:20260417T091500
DTEND;TZID=America/Denver:20260417T150000
X-MICROSOFT-CDO-ALLDAYEVENT:FALSE
SUMMARY:Chimney Rock Interpretive Association Volunteer Orientation Day 1
DESCRIPTION:Chinney Rock Interpretive Association offers its orientation program yearly to both new and returning volunteers. This year our volunteer workshop will take place on Friday\, April 17th\, from 9:15 am  3:00 pm at the Methodist Church located at 434 Lewis Street in Pagosa Springs\, CO. The following day on Saturday\, April 18th\, we will gather at Chimney Rock from 10:00 am  12:00 pm for a familiarization tour of the Monument.
X-ALT-DESC;FMTTYPE=text/html:<!DOCTYPE html><html><head><title></title></head><body aria-disabled="false"><p style="margin:0in\;background:white\;">Chinney Rock Interpretive Association offers its orientation program yearly to both new and returning volunteers. This year our volunteer workshop will take place on Friday\, April 17th\, from 9:15 am &ndash\;3:00 pm at the Methodist Church located at 434 Lewis Street in Pagosa Springs\, CO. The following day on Saturday\, April 18th\, we will gather at Chimney Rock from 10:00 am &ndash\;12:00 pm for a familiarization tour of the Monument.</p></body></html>
LOCATION:
UID:e.2804.1442068
SEQUENCE:3
DTSTAMP:20260423T174227Z
URL:https://member.pagosachamber.com/event-calendar/Details/chimney-rock-interpretive-association-volunteer-orientation-day-1-1707900?sourceTypeId=Hub
END:VEVENT
END:VCALENDAR
