BEGIN:VCALENDAR
VERSION:2.0
PRODID:-//ChamberMaster//Event Calendar 2.0//EN
METHOD:PUBLISH
X-PUBLISHED-TTL:P1H
REFRESH-INTERVAL:P1H
CALSCALE:GREGORIAN
BEGIN:VTIMEZONE
TZID:America/Denver
BEGIN:DAYLIGHT
RRULE:FREQ=YEARLY;BYMONTH=3;BYDAY=2SU
DTSTART:20070101T000000
TZOFFSETFROM:-0700
TZOFFSETTO:-0600
TZNAME:Mountain Daylight Time
END:DAYLIGHT
BEGIN:STANDARD
RRULE:FREQ=YEARLY;BYMONTH=11;BYDAY=1SU
DTSTART:20070101T000000
TZOFFSETFROM:-0600
TZOFFSETTO:-0700
TZNAME:Mountain Standard Time
END:STANDARD
END:VTIMEZONE
BEGIN:VEVENT
DTSTART;TZID=America/Denver:20260926T180000
DTEND;TZID=America/Denver:20260926T210000
X-MICROSOFT-CDO-ALLDAYEVENT:FALSE
SUMMARY:Archuleta Seniors\, Inc.\, Masquerade Ball
DESCRIPTION:2nd Annual ASI Masquerade Ball benefitting Meals on Wheels and other nutritional\, health\, and social programs for our 60 and over community.
X-ALT-DESC;FMTTYPE=text/html:<!DOCTYPE html><html><head><title></title></head><body aria-disabled="false"><p>2nd Annual ASI Masquerade Ball benefitting Meals on Wheels and other nutritional\, health\, and social programs for our 60 and over community.</p></body></html>
LOCATION:451 Hot Springs Blvd Pagosa Springs CO 81147
UID:e.2804.1443448
SEQUENCE:3
DTSTAMP:20260423T173946Z
URL:https://member.pagosachamber.com/event-calendar/Details/archuleta-seniors-inc-masquerade-ball-1709688?sourceTypeId=Hub
END:VEVENT
END:VCALENDAR
