BEGIN:VCALENDAR
VERSION:2.0
PRODID:-//ChamberMaster//Event Calendar 2.0//EN
METHOD:PUBLISH
X-PUBLISHED-TTL:P1H
REFRESH-INTERVAL:P1H
CALSCALE:GREGORIAN
BEGIN:VTIMEZONE
TZID:America/Denver
BEGIN:DAYLIGHT
RRULE:FREQ=YEARLY;BYMONTH=3;BYDAY=2SU
DTSTART:20070101T000000
TZOFFSETFROM:-0700
TZOFFSETTO:-0600
TZNAME:Mountain Daylight Time
END:DAYLIGHT
BEGIN:STANDARD
RRULE:FREQ=YEARLY;BYMONTH=11;BYDAY=1SU
DTSTART:20070101T000000
TZOFFSETFROM:-0600
TZOFFSETTO:-0700
TZNAME:Mountain Standard Time
END:STANDARD
END:VTIMEZONE
BEGIN:VEVENT
DTSTART;TZID=America/Denver:20260520T093000
DTEND;TZID=America/Denver:20260520T103000
X-MICROSOFT-CDO-ALLDAYEVENT:FALSE
SUMMARY:A Day in the Life of the Ancients - Chimney Rock Interpretive Association
DESCRIPTION:A Day in the Life of the Ancients is a family-oriented tour along the accessible Mesa Village Trail to visit an ancient agricultural village and learn about daily life 1\,000 years ago.Dates: Tuesdays: May 19\, 26Dates: Wednesdays: May 20\, 27Dates: Thursdays: May 21\, 28Time: 9:30amCost: $10 Kids / $20 Adults (Online or In-Person if space is available)Location: Chimney Rock National MonumentAddress: 30841 State Highway 151\, Pagosa Springs\, CO 81147CRIA Office: 970-731-7133Information and Tickets: www.chimneyrockco.org / 1877-444-6777
X-ALT-DESC;FMTTYPE=text/html:<!DOCTYPE html><html><head><title></title></head><body aria-disabled="false"><p style="margin-right:5.6pt\;"><b style="mso-bidi-font-weight:  normal\;">A Day in the Life of the Ancients&nbsp\;</b>is a family-oriented tour along the accessible Mesa Village Trail to visit an ancient agricultural village and learn about daily life 1\,000 years ago.</p><p><b style="mso-bidi-font-weight:normal\;">Dates: Tuesdays:&nbsp\;</b>May 19\, 26</p><p><strong fr-original-style="" style="font-weight: 700\;">Dates: Wednesdays:</strong> May 20\, 27</p><p><strong fr-original-style="" style="font-weight: 700\;">Dates: Thursdays:&nbsp\;</strong>May 21\, 28</p><p style="margin-left:.5in\;"><strong fr-original-style="" style="font-weight: 700\;">Time:&nbsp\;</strong>9:30am</p><p style="margin-left:0in\;"><strong fr-original-style="" style="font-weight: 700\;">Cost:&nbsp\;</strong>$10 Kids / $20 Adults (Online or In-Person if space is available)</p><p style="margin-left:.05pt\;"><a fr-original-style="" name="_Hlk193288309" style="user-select: auto\;"><strong fr-original-style="" style="font-weight: 700\;">Location:</strong></a> Chimney Rock National Monument</p><p><strong fr-original-style="" style="font-weight: 700\;">Address:&nbsp\;</strong>30841 State Highway 151\, Pagosa Springs\, CO 81147</p><p style="margin-left:.05pt\;"><strong fr-original-style="" style="font-weight: 700\;">CRIA Office:</strong> 970-731-7133</p><p style="margin-left:0in\;"><strong fr-original-style="" style="font-weight: 700\;">Information and Tickets:</strong> <a fr-original-style="" href="http://www.chimneyrockco.org" style="user-select: auto\;">www.chimneyrockco.org</a> / 1877-444-6777</p></body></html>
LOCATION:
UID:e.2804.1442072
SEQUENCE:3
DTSTAMP:20260423T174621Z
URL:https://member.pagosachamber.com/event-calendar/Details/a-day-in-the-life-of-the-ancients-chimney-rock-interpretive-association-1707904?sourceTypeId=Hub
END:VEVENT
END:VCALENDAR
